BEGIN:VCALENDAR
VERSION:2.0
PRODID:-//Plone.org//NONSGML plone.app.event//EN
X-WR-TIMEZONE:Europe/Madrid
BEGIN:VEVENT
SUMMARY:Engineering Education for the XXI Century
DTSTART;VALUE=DATE:20170706
DTEND;VALUE=DATE:20170708
DTSTAMP:20260421T000154Z
UID:44ee2953f54f406582c54ae3fc585288@bonzo2.upc.edu:9003
CONTACT:info@cidet.es\, http://engineeringeducation.uji.es/
CREATED:20170427T084640Z
DESCRIPTION:La primera conferència internacional es durà a terme a l'Uni
 versitat Jaume I de Castelló de la Plana els propers 6 i 7 de juliol.
LAST-MODIFIED:20170427T085145Z
LOCATION:Universitat Jaume I\, Castello de la Plana
URL:https://ccd.upc.edu/ca/esdeveniments/engineering-education-for-the-xxi
 -century
END:VEVENT
END:VCALENDAR
