BEGIN:VCALENDAR
VERSION:2.0
PRODID:-//Plone.org//NONSGML plone.app.event//EN
X-WR-TIMEZONE:Europe/Madrid
BEGIN:VEVENT
SUMMARY:Exposició de projectes a l'ESAB
DTSTART;TZID=Europe/Madrid:20151215T000000
DTEND;TZID=Europe/Madrid:20160128T000000
DTSTAMP:20260419T134953Z
UID:eabc1520-b1f1-49f6-960c-9640edfe5fe0@peter7.upc.edu:11901
CREATED:20151214T082100Z
LAST-MODIFIED:20151214T082600Z
LOCATION:Vestíbul de l'ESAB
URL:https://ccd.upc.edu/ca/esdeveniments/exposicio-de-projectes-a-lesab
END:VEVENT
BEGIN:VTIMEZONE
TZID:Europe/Madrid
X-LIC-LOCATION:Europe/Madrid
BEGIN:STANDARD
DTSTART:20151025T020000
TZNAME:CET
TZOFFSETFROM:+0200
TZOFFSETTO:+0100
END:STANDARD
END:VTIMEZONE
END:VCALENDAR
