BEGIN:VCALENDAR
VERSION:2.0
PRODID:-//Plone.org//NONSGML plone.app.event//EN
X-WR-TIMEZONE:Europe/Madrid
BEGIN:VEVENT
SUMMARY:Exposició "Els altres refugiats" a l'ESAB
DTSTART;VALUE=DATE:20170622
DTEND;VALUE=DATE:20170730
DTSTAMP:20260420T140917Z
UID:24da381ea806402b8ac8e0f921f8908c@bonzo2.upc.edu:9003
CONTACT:https://www.elsaltresrefugiats.org/
CREATED:20170626T113141Z
LAST-MODIFIED:20170727T115125Z
LOCATION:Escola Superior d'Agricultura de Barcelona
URL:https://ccd.upc.edu/ca/esdeveniments/exposicio-els-altres-refugiats-a-
 lesab
END:VEVENT
END:VCALENDAR
