BEGIN:VCALENDAR
VERSION:2.0
PRODID:-//Plone.org//NONSGML plone.app.event//EN
X-WR-TIMEZONE:Europe/Madrid
BEGIN:VEVENT
SUMMARY:Jornades Low Tech
DTSTART;TZID=Europe/Madrid:20151119T000000
DTEND;TZID=Europe/Madrid:20151120T000000
DTSTAMP:20260419T194711Z
UID:7e812a80-b558-464b-9331-6c5788c77101@peter7.upc.edu:11901
CREATED:20151026T092300Z
LAST-MODIFIED:20151026T092500Z
URL:https://ccd.upc.edu/ca/esdeveniments/jornades-low-tech-3
END:VEVENT
BEGIN:VTIMEZONE
TZID:Europe/Madrid
X-LIC-LOCATION:Europe/Madrid
BEGIN:STANDARD
DTSTART:20151025T020000
TZNAME:CET
TZOFFSETFROM:+0200
TZOFFSETTO:+0100
END:STANDARD
END:VTIMEZONE
END:VCALENDAR
