BEGIN:VCALENDAR
VERSION:2.0
PRODID:-//Plone.org//NONSGML plone.app.event//EN
X-WR-TIMEZONE:Europe/Madrid
BEGIN:VEVENT
SUMMARY:Presentació del programa Voluntariat TIC de la UPC
DTSTART;TZID=Europe/Madrid:20150923T120000
DTEND;TZID=Europe/Madrid:20150923T133000
DTSTAMP:20260420T152120Z
UID:4348ccfc-4459-4668-9457-76d056cec456@peter7.upc.edu:11901
CREATED:20150921T082900Z
LAST-MODIFIED:20150921T083100Z
LOCATION:Sala de Juntes de la FIB
URL:https://ccd.upc.edu/ca/esdeveniments/presentacio-del-programa-voluntar
 iat-tic-de-la-upc
END:VEVENT
BEGIN:VTIMEZONE
TZID:Europe/Madrid
X-LIC-LOCATION:Europe/Madrid
BEGIN:DAYLIGHT
DTSTART:20150329T030000
TZNAME:CEST
TZOFFSETFROM:+0100
TZOFFSETTO:+0200
END:DAYLIGHT
END:VTIMEZONE
END:VCALENDAR
