BEGIN:VCALENDAR
VERSION:2.0
PRODID:-//Plone.org//NONSGML plone.app.event//EN
X-WR-TIMEZONE:Europe/Madrid
BEGIN:VEVENT
SUMMARY:Seminari: Post-disaster architecture
DTSTART;TZID=Europe/Madrid:20181116T090000
DTEND;TZID=Europe/Madrid:20181116T140000
DTSTAMP:20260419T181313Z
UID:02c28caa4cc2401cba574897492302da@bonzo2.upc.edu:9003
CREATED:20181002T064220Z
LAST-MODIFIED:20181025T122645Z
LOCATION:Aula Màster del Campus Nord
URL:https://ccd.upc.edu/ca/esdeveniments/seminari-post-disaster-architectu
 re
END:VEVENT
BEGIN:VTIMEZONE
TZID:Europe/Madrid
X-LIC-LOCATION:Europe/Madrid
BEGIN:STANDARD
DTSTART:20181028T020000
TZNAME:CET
TZOFFSETFROM:+0200
TZOFFSETTO:+0100
END:STANDARD
END:VTIMEZONE
END:VCALENDAR
